BEGIN:VCALENDAR
VERSION:2.0
PRODID:-//TSV Grußendorf von 1911 e.V. - ECPv6.15.19//NONSGML v1.0//EN
CALSCALE:GREGORIAN
METHOD:PUBLISH
X-WR-CALNAME:TSV Grußendorf von 1911 e.V.
X-ORIGINAL-URL:https://www.tsv-grussendorf.de
X-WR-CALDESC:Veranstaltungen für TSV Grußendorf von 1911 e.V.
REFRESH-INTERVAL;VALUE=DURATION:PT1H
X-Robots-Tag:noindex
X-PUBLISHED-TTL:PT1H
BEGIN:VTIMEZONE
TZID:Europe/Berlin
BEGIN:DAYLIGHT
TZOFFSETFROM:+0100
TZOFFSETTO:+0200
TZNAME:CEST
DTSTART:20230326T010000
END:DAYLIGHT
BEGIN:STANDARD
TZOFFSETFROM:+0200
TZOFFSETTO:+0100
TZNAME:CET
DTSTART:20231029T010000
END:STANDARD
BEGIN:DAYLIGHT
TZOFFSETFROM:+0100
TZOFFSETTO:+0200
TZNAME:CEST
DTSTART:20240331T010000
END:DAYLIGHT
BEGIN:STANDARD
TZOFFSETFROM:+0200
TZOFFSETTO:+0100
TZNAME:CET
DTSTART:20241027T010000
END:STANDARD
BEGIN:DAYLIGHT
TZOFFSETFROM:+0100
TZOFFSETTO:+0200
TZNAME:CEST
DTSTART:20250330T010000
END:DAYLIGHT
BEGIN:STANDARD
TZOFFSETFROM:+0200
TZOFFSETTO:+0100
TZNAME:CET
DTSTART:20251026T010000
END:STANDARD
END:VTIMEZONE
BEGIN:VEVENT
DTSTART;TZID=Europe/Berlin:20240526T100000
DTEND;TZID=Europe/Berlin:20240526T160000
DTSTAMP:20260421T162546
CREATED:20240226T104733Z
LAST-MODIFIED:20240226T104740Z
UID:4473-1716717600-1716739200@www.tsv-grussendorf.de
SUMMARY:TSV-Flohmarkt
DESCRIPTION:Ähnliche Beiträge
URL:https://www.tsv-grussendorf.de/veranstaltung/tsv-flohmarkt/
CATEGORIES:Allgemein
ATTACH;FMTTYPE=image/jpeg:https://www.tsv-grussendorf.de/wordpress2/wp-content/uploads/2024/02/WhatsApp-Image-2024-02-13-at-21.10.29.jpeg
END:VEVENT
END:VCALENDAR