BEGIN:VCALENDAR
VERSION:2.0
PRODID:-//TSV Grußendorf von 1911 e.V. - ECPv6.15.19//NONSGML v1.0//EN
CALSCALE:GREGORIAN
METHOD:PUBLISH
X-WR-CALNAME:TSV Grußendorf von 1911 e.V.
X-ORIGINAL-URL:https://www.tsv-grussendorf.de
X-WR-CALDESC:Veranstaltungen für TSV Grußendorf von 1911 e.V.
REFRESH-INTERVAL;VALUE=DURATION:PT1H
X-Robots-Tag:noindex
X-PUBLISHED-TTL:PT1H
BEGIN:VTIMEZONE
TZID:Europe/Berlin
BEGIN:DAYLIGHT
TZOFFSETFROM:+0100
TZOFFSETTO:+0200
TZNAME:CEST
DTSTART:20200329T010000
END:DAYLIGHT
BEGIN:STANDARD
TZOFFSETFROM:+0200
TZOFFSETTO:+0100
TZNAME:CET
DTSTART:20201025T010000
END:STANDARD
BEGIN:DAYLIGHT
TZOFFSETFROM:+0100
TZOFFSETTO:+0200
TZNAME:CEST
DTSTART:20210328T010000
END:DAYLIGHT
BEGIN:STANDARD
TZOFFSETFROM:+0200
TZOFFSETTO:+0100
TZNAME:CET
DTSTART:20211031T010000
END:STANDARD
BEGIN:DAYLIGHT
TZOFFSETFROM:+0100
TZOFFSETTO:+0200
TZNAME:CEST
DTSTART:20220327T010000
END:DAYLIGHT
BEGIN:STANDARD
TZOFFSETFROM:+0200
TZOFFSETTO:+0100
TZNAME:CET
DTSTART:20221030T010000
END:STANDARD
END:VTIMEZONE
BEGIN:VEVENT
DTSTART;TZID=Europe/Berlin:20210403T100000
DTEND;TZID=Europe/Berlin:20210403T170000
DTSTAMP:20260421T174933
CREATED:20210317T141907Z
LAST-MODIFIED:20210317T213245Z
UID:3481-1617444000-1617469200@www.tsv-grussendorf.de
SUMMARY:Osterwanderung
DESCRIPTION:Ähnliche Beiträge
URL:https://www.tsv-grussendorf.de/veranstaltung/osterwanderung/
LOCATION:Sportplatz\, Sportzentrum\, Grußendorf\, Niedersachsen\, 38524\, Deutschland
CATEGORIES:Allgemein
ATTACH;FMTTYPE=image/jpeg:https://www.tsv-grussendorf.de/wordpress2/wp-content/uploads/2021/03/Folie1.jpeg
ORGANIZER;CN="TSV Gru%C3%9Fendorf von 1911 e.V.":MAILTO:philippbrand@gmx.de
END:VEVENT
END:VCALENDAR