BEGIN:VCALENDAR
VERSION:2.0
PRODID:-//TSV Grußendorf von 1911 e.V. - ECPv6.15.19//NONSGML v1.0//EN
CALSCALE:GREGORIAN
METHOD:PUBLISH
X-WR-CALNAME:TSV Grußendorf von 1911 e.V.
X-ORIGINAL-URL:https://www.tsv-grussendorf.de
X-WR-CALDESC:Veranstaltungen für TSV Grußendorf von 1911 e.V.
REFRESH-INTERVAL;VALUE=DURATION:PT1H
X-Robots-Tag:noindex
X-PUBLISHED-TTL:PT1H
BEGIN:VTIMEZONE
TZID:Europe/Berlin
BEGIN:DAYLIGHT
TZOFFSETFROM:+0100
TZOFFSETTO:+0200
TZNAME:CEST
DTSTART:20230326T010000
END:DAYLIGHT
BEGIN:STANDARD
TZOFFSETFROM:+0200
TZOFFSETTO:+0100
TZNAME:CET
DTSTART:20231029T010000
END:STANDARD
BEGIN:DAYLIGHT
TZOFFSETFROM:+0100
TZOFFSETTO:+0200
TZNAME:CEST
DTSTART:20240331T010000
END:DAYLIGHT
BEGIN:STANDARD
TZOFFSETFROM:+0200
TZOFFSETTO:+0100
TZNAME:CET
DTSTART:20241027T010000
END:STANDARD
BEGIN:DAYLIGHT
TZOFFSETFROM:+0100
TZOFFSETTO:+0200
TZNAME:CEST
DTSTART:20250330T010000
END:DAYLIGHT
BEGIN:STANDARD
TZOFFSETFROM:+0200
TZOFFSETTO:+0100
TZNAME:CET
DTSTART:20251026T010000
END:STANDARD
END:VTIMEZONE
BEGIN:VEVENT
DTSTART;VALUE=DATE:20240609
DTEND;VALUE=DATE:20240610
DTSTAMP:20260421T161849
CREATED:20240226T105013Z
LAST-MODIFIED:20240226T105013Z
UID:4478-1717891200-1717977599@www.tsv-grussendorf.de
SUMMARY:Letztes Saisonspiel der 1. Herren
DESCRIPTION:Ähnliche Beiträge
URL:https://www.tsv-grussendorf.de/veranstaltung/letztes-saisonspiel-der-1-herren/
END:VEVENT
END:VCALENDAR