BEGIN:VCALENDAR
VERSION:2.0
PRODID:-//TSV Grußendorf von 1911 e.V. - ECPv6.15.19//NONSGML v1.0//EN
CALSCALE:GREGORIAN
METHOD:PUBLISH
X-WR-CALNAME:TSV Grußendorf von 1911 e.V.
X-ORIGINAL-URL:https://www.tsv-grussendorf.de
X-WR-CALDESC:Veranstaltungen für TSV Grußendorf von 1911 e.V.
REFRESH-INTERVAL;VALUE=DURATION:PT1H
X-Robots-Tag:noindex
X-PUBLISHED-TTL:PT1H
BEGIN:VTIMEZONE
TZID:Europe/Berlin
BEGIN:DAYLIGHT
TZOFFSETFROM:+0100
TZOFFSETTO:+0200
TZNAME:CEST
DTSTART:20200329T010000
END:DAYLIGHT
BEGIN:STANDARD
TZOFFSETFROM:+0200
TZOFFSETTO:+0100
TZNAME:CET
DTSTART:20201025T010000
END:STANDARD
BEGIN:DAYLIGHT
TZOFFSETFROM:+0100
TZOFFSETTO:+0200
TZNAME:CEST
DTSTART:20210328T010000
END:DAYLIGHT
BEGIN:STANDARD
TZOFFSETFROM:+0200
TZOFFSETTO:+0100
TZNAME:CET
DTSTART:20211031T010000
END:STANDARD
BEGIN:DAYLIGHT
TZOFFSETFROM:+0100
TZOFFSETTO:+0200
TZNAME:CEST
DTSTART:20220327T010000
END:DAYLIGHT
BEGIN:STANDARD
TZOFFSETFROM:+0200
TZOFFSETTO:+0100
TZNAME:CET
DTSTART:20221030T010000
END:STANDARD
END:VTIMEZONE
BEGIN:VEVENT
DTSTART;TZID=Europe/Berlin:20210410T140000
DTEND;TZID=Europe/Berlin:20210410T153000
DTSTAMP:20260421T162237
CREATED:20210316T201530Z
LAST-MODIFIED:20210407T053847Z
UID:3423-1618063200-1618068600@www.tsv-grussendorf.de
SUMMARY:Jahreshauptversammlung 2021
DESCRIPTION:Auf Grund der anhaltenden Pandemie wird die diesjährige Jahreshauptversammlung nicht länger ins ungewisse datiert\, sondern wird am 10. April 2021 ab 14:00 Uhr im BGH Stüde stattfinden. Mit der Räumlichkeit sowie unserem Hygiennekonzept dürfen wir nach Rücksprache mit unserer Gemeinde neben dem kompletten Vorstand vor Ort noch weitere 10 Mitglieder begrüßen. Interessierte müssen sich hierzu im Vorfeld beim 1. Vorsitzenden anmelden. \nIn diesem Zeiten wird vieles in die Online-Welt verschoben bzw. zusätzlich angeboten\, so auch die Teilnahme unserer Jahreshauptversammlung.\nAuch hierfür müssen sich die unsere Mitglieder im Vorfeld beim 1. Vorsitzenden anmelden. Am Samstag Vormittag wird eine entsprechende Einladung per E-Mail verschickt\, sodass die Veranstaltung online beigetreten werden kann. \nDie diesjährige Jahreshauptversammlung wird somit etwas anders durchgeführt als üblich\, die Tagesordnung wird sich daher leicht unterscheiden gegenüber der letzten Jahres. \n \n  \n\n\n	Ähnliche Beiträge
URL:https://www.tsv-grussendorf.de/veranstaltung/jhv2021/
LOCATION:BGH Stüde\, Neue Straße 12\, Stüde\, Niedersachsen\, 38524\, Deutschland
CATEGORIES:Allgemein
ORGANIZER;CN="TSV Gru%C3%9Fendorf von 1911 e.V.":MAILTO:philippbrand@gmx.de
END:VEVENT
END:VCALENDAR